BEGIN:VCALENDAR
VERSION:2.0
PRODID:-//Huguenot Road Baptist Church Child Development Center - ECPv6.15.20//NONSGML v1.0//EN
CALSCALE:GREGORIAN
METHOD:PUBLISH
X-WR-CALNAME:Huguenot Road Baptist Church Child Development Center
X-ORIGINAL-URL:https://hrbcpreschool.org
X-WR-CALDESC:Events for Huguenot Road Baptist Church Child Development Center
REFRESH-INTERVAL;VALUE=DURATION:PT1H
X-Robots-Tag:noindex
X-PUBLISHED-TTL:PT1H
BEGIN:VTIMEZONE
TZID:America/New_York
BEGIN:DAYLIGHT
TZOFFSETFROM:-0500
TZOFFSETTO:-0400
TZNAME:EDT
DTSTART:20240310T070000
END:DAYLIGHT
BEGIN:STANDARD
TZOFFSETFROM:-0400
TZOFFSETTO:-0500
TZNAME:EST
DTSTART:20241103T060000
END:STANDARD
BEGIN:DAYLIGHT
TZOFFSETFROM:-0500
TZOFFSETTO:-0400
TZNAME:EDT
DTSTART:20250309T070000
END:DAYLIGHT
BEGIN:STANDARD
TZOFFSETFROM:-0400
TZOFFSETTO:-0500
TZNAME:EST
DTSTART:20251102T060000
END:STANDARD
BEGIN:DAYLIGHT
TZOFFSETFROM:-0500
TZOFFSETTO:-0400
TZNAME:EDT
DTSTART:20260308T070000
END:DAYLIGHT
BEGIN:STANDARD
TZOFFSETFROM:-0400
TZOFFSETTO:-0500
TZNAME:EST
DTSTART:20261101T060000
END:STANDARD
END:VTIMEZONE
BEGIN:VEVENT
DTSTART;VALUE=DATE:20250901
DTEND;VALUE=DATE:20250902
DTSTAMP:20260421T164700
CREATED:20250724T150708Z
LAST-MODIFIED:20250724T150708Z
UID:218-1756684800-1756771199@hrbcpreschool.org
SUMMARY:Labor Day Federal Holiday
DESCRIPTION:
URL:https://hrbcpreschool.org/event/labor-day-federal-holiday/
END:VEVENT
BEGIN:VEVENT
DTSTART;TZID=America/New_York:20250910T093000
DTEND;TZID=America/New_York:20250910T103000
DTSTAMP:20260421T164700
CREATED:20250724T234256Z
LAST-MODIFIED:20250724T234256Z
UID:220-1757496600-1757500200@hrbcpreschool.org
SUMMARY:Parent Meet & Greet
DESCRIPTION:Coffee\, pastries and conversation after carpool
URL:https://hrbcpreschool.org/event/parent-meet-greet/
END:VEVENT
BEGIN:VEVENT
DTSTART;VALUE=DATE:20250911
DTEND;VALUE=DATE:20250912
DTSTAMP:20260421T164700
CREATED:20250724T234707Z
LAST-MODIFIED:20250724T234707Z
UID:222-1757548800-1757635199@hrbcpreschool.org
SUMMARY:First session of Kickers Soccer
DESCRIPTION:
URL:https://hrbcpreschool.org/event/first-session-of-kickers-soccer/
END:VEVENT
BEGIN:VEVENT
DTSTART;VALUE=DATE:20250916
DTEND;VALUE=DATE:20250917
DTSTAMP:20260421T164700
CREATED:20250724T234833Z
LAST-MODIFIED:20250724T234833Z
UID:224-1757980800-1758067199@hrbcpreschool.org
SUMMARY:First Priority visit teachers in classrooms.
DESCRIPTION:
URL:https://hrbcpreschool.org/event/first-priority-visit-teachers-in-classrooms/
END:VEVENT
BEGIN:VEVENT
DTSTART;VALUE=DATE:20250918
DTEND;VALUE=DATE:20250919
DTSTAMP:20260421T164700
CREATED:20250724T234948Z
LAST-MODIFIED:20250724T234948Z
UID:226-1758153600-1758239999@hrbcpreschool.org
SUMMARY:Room Parent Meeting
DESCRIPTION:
URL:https://hrbcpreschool.org/event/room-parent-meeting/
END:VEVENT
END:VCALENDAR