BEGIN:VCALENDAR
VERSION:2.0
PRODID:-//Huguenot Road Baptist Church Child Development Center - ECPv6.15.20//NONSGML v1.0//EN
CALSCALE:GREGORIAN
METHOD:PUBLISH
X-ORIGINAL-URL:https://hrbcpreschool.org
X-WR-CALDESC:Events for Huguenot Road Baptist Church Child Development Center
REFRESH-INTERVAL;VALUE=DURATION:PT1H
X-Robots-Tag:noindex
X-PUBLISHED-TTL:PT1H
BEGIN:VTIMEZONE
TZID:America/New_York
BEGIN:DAYLIGHT
TZOFFSETFROM:-0500
TZOFFSETTO:-0400
TZNAME:EDT
DTSTART:20240310T070000
END:DAYLIGHT
BEGIN:STANDARD
TZOFFSETFROM:-0400
TZOFFSETTO:-0500
TZNAME:EST
DTSTART:20241103T060000
END:STANDARD
BEGIN:DAYLIGHT
TZOFFSETFROM:-0500
TZOFFSETTO:-0400
TZNAME:EDT
DTSTART:20250309T070000
END:DAYLIGHT
BEGIN:STANDARD
TZOFFSETFROM:-0400
TZOFFSETTO:-0500
TZNAME:EST
DTSTART:20251102T060000
END:STANDARD
BEGIN:DAYLIGHT
TZOFFSETFROM:-0500
TZOFFSETTO:-0400
TZNAME:EDT
DTSTART:20260308T070000
END:DAYLIGHT
BEGIN:STANDARD
TZOFFSETFROM:-0400
TZOFFSETTO:-0500
TZNAME:EST
DTSTART:20261101T060000
END:STANDARD
END:VTIMEZONE
BEGIN:VEVENT
DTSTART;VALUE=DATE:20250819
DTEND;VALUE=DATE:20250822
DTSTAMP:20260421T181954
CREATED:20250725T173030Z
LAST-MODIFIED:20250725T173030Z
UID:251-1755561600-1755820799@hrbcpreschool.org
SUMMARY:Teacher Work Day/Training
DESCRIPTION:
URL:https://hrbcpreschool.org/event/teacher-work-day-training/
END:VEVENT
BEGIN:VEVENT
DTSTART;TZID=America/New_York:20250821T090000
DTEND;TZID=America/New_York:20250821T140000
DTSTAMP:20260421T181954
CREATED:20250724T150102Z
LAST-MODIFIED:20250724T150102Z
UID:210-1755766800-1755784800@hrbcpreschool.org
SUMMARY:Meet the Teacher & Visit the Classroom!
DESCRIPTION:By appointment only. \nNote: Teachers receive class lists and contact families to schedule classroom visits to meet the teacher. Expect communication with your teacher after August 4th. Thank you!
URL:https://hrbcpreschool.org/event/meet-the-teacher-visit-the-classroom/
END:VEVENT
BEGIN:VEVENT
DTSTART;VALUE=DATE:20250825
DTEND;VALUE=DATE:20250826
DTSTAMP:20260421T181954
CREATED:20250724T150140Z
LAST-MODIFIED:20250724T150140Z
UID:212-1756080000-1756166399@hrbcpreschool.org
SUMMARY:First Day of Preschool - all Monday Students.
DESCRIPTION:
URL:https://hrbcpreschool.org/event/first-day-of-preschool-all-monday-students/
END:VEVENT
BEGIN:VEVENT
DTSTART;VALUE=DATE:20250826
DTEND;VALUE=DATE:20250827
DTSTAMP:20260421T181954
CREATED:20250724T150214Z
LAST-MODIFIED:20250724T150214Z
UID:214-1756166400-1756252799@hrbcpreschool.org
SUMMARY:First Day of Preschool - All Tuesday Students.
DESCRIPTION:
URL:https://hrbcpreschool.org/event/first-day-of-preschool-all-tuesday-students/
END:VEVENT
BEGIN:VEVENT
DTSTART;TZID=America/New_York:20250826T180000
DTEND;TZID=America/New_York:20250826T190000
DTSTAMP:20260421T181954
CREATED:20250724T150302Z
LAST-MODIFIED:20250724T150302Z
UID:216-1756231200-1756234800@hrbcpreschool.org
SUMMARY:Parent Meeting. One parent per student please attend this meeting.
DESCRIPTION:
URL:https://hrbcpreschool.org/event/parent-meeting-one-parent-per-student-please-attend-this-meeting/
END:VEVENT
BEGIN:VEVENT
DTSTART;VALUE=DATE:20250829
DTEND;VALUE=DATE:20250830
DTSTAMP:20260421T181954
CREATED:20250725T173057Z
LAST-MODIFIED:20250725T173057Z
UID:253-1756425600-1756511999@hrbcpreschool.org
SUMMARY:School Holiday - No School
DESCRIPTION:
URL:https://hrbcpreschool.org/event/school-holiday-no-school-4/
END:VEVENT
END:VCALENDAR