BEGIN:VCALENDAR
VERSION:2.0
PRODID:-//Huguenot Road Baptist Church Child Development Center - ECPv6.15.20//NONSGML v1.0//EN
CALSCALE:GREGORIAN
METHOD:PUBLISH
X-WR-CALNAME:Huguenot Road Baptist Church Child Development Center
X-ORIGINAL-URL:https://hrbcpreschool.org
X-WR-CALDESC:Events for Huguenot Road Baptist Church Child Development Center
REFRESH-INTERVAL;VALUE=DURATION:PT1H
X-Robots-Tag:noindex
X-PUBLISHED-TTL:PT1H
BEGIN:VTIMEZONE
TZID:America/New_York
BEGIN:DAYLIGHT
TZOFFSETFROM:-0500
TZOFFSETTO:-0400
TZNAME:EDT
DTSTART:20230312T070000
END:DAYLIGHT
BEGIN:STANDARD
TZOFFSETFROM:-0400
TZOFFSETTO:-0500
TZNAME:EST
DTSTART:20231105T060000
END:STANDARD
BEGIN:DAYLIGHT
TZOFFSETFROM:-0500
TZOFFSETTO:-0400
TZNAME:EDT
DTSTART:20240310T070000
END:DAYLIGHT
BEGIN:STANDARD
TZOFFSETFROM:-0400
TZOFFSETTO:-0500
TZNAME:EST
DTSTART:20241103T060000
END:STANDARD
BEGIN:DAYLIGHT
TZOFFSETFROM:-0500
TZOFFSETTO:-0400
TZNAME:EDT
DTSTART:20250309T070000
END:DAYLIGHT
BEGIN:STANDARD
TZOFFSETFROM:-0400
TZOFFSETTO:-0500
TZNAME:EST
DTSTART:20251102T060000
END:STANDARD
END:VTIMEZONE
BEGIN:VEVENT
DTSTART;VALUE=DATE:20241101
DTEND;VALUE=DATE:20241102
DTSTAMP:20260424T042956
CREATED:20240823T211145Z
LAST-MODIFIED:20240823T211145Z
UID:147-1730419200-1730505599@hrbcpreschool.org
SUMMARY:Friday Funday
DESCRIPTION:
URL:https://hrbcpreschool.org/event/friday-funday-5/
END:VEVENT
BEGIN:VEVENT
DTSTART;VALUE=DATE:20241104
DTEND;VALUE=DATE:20241105
DTSTAMP:20260424T042956
CREATED:20240823T211212Z
LAST-MODIFIED:20240823T211212Z
UID:149-1730678400-1730764799@hrbcpreschool.org
SUMMARY:No School
DESCRIPTION:
URL:https://hrbcpreschool.org/event/no-school-5/
END:VEVENT
BEGIN:VEVENT
DTSTART;VALUE=DATE:20241105
DTEND;VALUE=DATE:20241106
DTSTAMP:20260424T042956
CREATED:20240823T211238Z
LAST-MODIFIED:20240823T211238Z
UID:151-1730764800-1730851199@hrbcpreschool.org
SUMMARY:No School
DESCRIPTION:
URL:https://hrbcpreschool.org/event/no-school-6/
END:VEVENT
BEGIN:VEVENT
DTSTART;VALUE=DATE:20241115
DTEND;VALUE=DATE:20241116
DTSTAMP:20260424T042956
CREATED:20240823T211310Z
LAST-MODIFIED:20240823T211310Z
UID:153-1731628800-1731715199@hrbcpreschool.org
SUMMARY:Friday Funday
DESCRIPTION:
URL:https://hrbcpreschool.org/event/friday-funday-6/
END:VEVENT
BEGIN:VEVENT
DTSTART;VALUE=DATE:20241122
DTEND;VALUE=DATE:20241123
DTSTAMP:20260424T042956
CREATED:20240823T211338Z
LAST-MODIFIED:20240823T211338Z
UID:155-1732233600-1732319999@hrbcpreschool.org
SUMMARY:Friday Funday
DESCRIPTION:
URL:https://hrbcpreschool.org/event/friday-funday-7/
END:VEVENT
BEGIN:VEVENT
DTSTART;VALUE=DATE:20241127
DTEND;VALUE=DATE:20241130
DTSTAMP:20260424T042956
CREATED:20240823T211512Z
LAST-MODIFIED:20240823T211512Z
UID:161-1732665600-1732924799@hrbcpreschool.org
SUMMARY:No School - Thanksgiving Break
DESCRIPTION:
URL:https://hrbcpreschool.org/event/no-school-thanksgiving-break/
END:VEVENT
END:VCALENDAR